BEGIN:VCALENDAR
VERSION:2.0
PRODID:-//Menai Baptist Church - ECPv6.15.20//NONSGML v1.0//EN
CALSCALE:GREGORIAN
METHOD:PUBLISH
X-ORIGINAL-URL:https://menaibaptist.org.au
X-WR-CALDESC:Events for Menai Baptist Church
REFRESH-INTERVAL;VALUE=DURATION:PT1H
X-Robots-Tag:noindex
X-PUBLISHED-TTL:PT1H
BEGIN:VTIMEZONE
TZID:Australia/Sydney
BEGIN:STANDARD
TZOFFSETFROM:+1100
TZOFFSETTO:+1000
TZNAME:AEST
DTSTART:20220402T160000
END:STANDARD
BEGIN:DAYLIGHT
TZOFFSETFROM:+1000
TZOFFSETTO:+1100
TZNAME:AEDT
DTSTART:20221001T160000
END:DAYLIGHT
BEGIN:STANDARD
TZOFFSETFROM:+1100
TZOFFSETTO:+1000
TZNAME:AEST
DTSTART:20230401T160000
END:STANDARD
BEGIN:DAYLIGHT
TZOFFSETFROM:+1000
TZOFFSETTO:+1100
TZNAME:AEDT
DTSTART:20230930T160000
END:DAYLIGHT
BEGIN:STANDARD
TZOFFSETFROM:+1100
TZOFFSETTO:+1000
TZNAME:AEST
DTSTART:20240406T160000
END:STANDARD
BEGIN:DAYLIGHT
TZOFFSETFROM:+1000
TZOFFSETTO:+1100
TZNAME:AEDT
DTSTART:20241005T160000
END:DAYLIGHT
END:VTIMEZONE
BEGIN:VEVENT
DTSTART;TZID=Australia/Sydney:20231231T093000
DTEND;TZID=Australia/Sydney:20231231T110000
DTSTAMP:20260423T074856
CREATED:20231211T222139Z
LAST-MODIFIED:20231215T011447Z
UID:10000008-1704015000-1704020400@menaibaptist.org.au
SUMMARY:New Years Eve Brunch
DESCRIPTION:On Sunday 31 December there will be NO regular church service. Instead there will be a Brunch in the Park! \nWe’d love you to join us at 9.30am on New Year’s Eve at Parc Menai for a fun\, relaxed morning together. \nBYO chairs\, blankets and food. We’ll also have some sausages for the BBQ!
URL:https://menaibaptist.org.au/event/new-years-eve-picnic/
LOCATION:Parc Menai\, Parc Menai Playground\, Menai\, NSW\, 2234\, Australia
ATTACH;FMTTYPE=image/jpeg:https://menaibaptist.org.au/wp-content/uploads/2023/12/ParcMenai-1.jpg
END:VEVENT
END:VCALENDAR