BEGIN:VCALENDAR
VERSION:2.0
PRODID:-//Menai Baptist Church - ECPv6.15.20//NONSGML v1.0//EN
CALSCALE:GREGORIAN
METHOD:PUBLISH
X-ORIGINAL-URL:https://menaibaptist.org.au
X-WR-CALDESC:Events for Menai Baptist Church
REFRESH-INTERVAL;VALUE=DURATION:PT1H
X-Robots-Tag:noindex
X-PUBLISHED-TTL:PT1H
BEGIN:VTIMEZONE
TZID:Australia/Sydney
BEGIN:STANDARD
TZOFFSETFROM:+1100
TZOFFSETTO:+1000
TZNAME:AEST
DTSTART:20230401T160000
END:STANDARD
BEGIN:DAYLIGHT
TZOFFSETFROM:+1000
TZOFFSETTO:+1100
TZNAME:AEDT
DTSTART:20230930T160000
END:DAYLIGHT
BEGIN:STANDARD
TZOFFSETFROM:+1100
TZOFFSETTO:+1000
TZNAME:AEST
DTSTART:20240406T160000
END:STANDARD
BEGIN:DAYLIGHT
TZOFFSETFROM:+1000
TZOFFSETTO:+1100
TZNAME:AEDT
DTSTART:20241005T160000
END:DAYLIGHT
BEGIN:STANDARD
TZOFFSETFROM:+1100
TZOFFSETTO:+1000
TZNAME:AEST
DTSTART:20250405T160000
END:STANDARD
BEGIN:DAYLIGHT
TZOFFSETFROM:+1000
TZOFFSETTO:+1100
TZNAME:AEDT
DTSTART:20251004T160000
END:DAYLIGHT
END:VTIMEZONE
BEGIN:VEVENT
DTSTART;VALUE=DATE:20240221
DTEND;VALUE=DATE:20240328
DTSTAMP:20260423T032740
CREATED:20240209T012743Z
LAST-MODIFIED:20240209T023323Z
UID:10000029-1708473600-1711583999@menaibaptist.org.au
SUMMARY:Alpha
DESCRIPTION:Every Wednesday night\, 7-8:30pm starting 21 Feb. \nAre you\, or do you know someone\, who would be interested in exploring questions about what life’s all about? \nAlpha is a course that we’re running over 6 weeks that wades into what we think about faith\, God\, life and our place in it. We share a meal\, watch a high quality film series episode and discuss together in groups. Nothing is off limits\, everybody is welcome in this exploratory series on faith\, life and God. \n\nWeek 1 – Wed 21 Feb – Is There More To Life Than This?\nWeek 2 – Wed 28 Feb – Who Is Jesus?\nWeek 3 – Wed 06 Mar – Why Did Jesus Die?\nWeek 4 – Wed 13 Mar – How Can I Have Faith?\nWeek 5 – Wed 20 Mar – Why & How Do I Pray?\nWeek 6 – Wed 27 Mar – Why & How Should I Read The Bible?\n\nGot questions about Alpha? Contact Alex Wiles – scroll to end of event listing for Alex’s contact details. \n 
URL:https://menaibaptist.org.au/event/alpha/
LOCATION:The Centre (MBC Office)\, Unit 2\, 778-786 Old Illawarra Road\, Menai\, NSW\, 2234\, Australia
CATEGORIES:Church
ATTACH;FMTTYPE=image/jpeg:https://menaibaptist.org.au/wp-content/uploads/2024/02/AlphaInvite21_BusinessCard_90x55mm_2.1.jpg
ORGANIZER;CN="Alex Wiles":MAILTO:alex@menaibaptist.org.au
END:VEVENT
BEGIN:VEVENT
DTSTART;TZID=Australia/Sydney:20240316T090000
DTEND;TZID=Australia/Sydney:20240316T160000
DTSTAMP:20260423T032740
CREATED:20240301T012626Z
LAST-MODIFIED:20240301T014315Z
UID:10000035-1710579600-1710604800@menaibaptist.org.au
SUMMARY:Adults (50+) Bradley's Head Outing
DESCRIPTION:You are welcome to join us at our next Adults (50+) Group outing to Bradley’s Head. \nThis area has amazing views of the city and harbour. We’ll walk along the track\, pausing at Athol Beach\, and admiring the views till we reach Bradley’s Head. There we’ll explore the Amphitheatre\, lighthouse and historical relics and walk back a slightly different track\, on the other side of the peninsular and up the hill\, past Athol Hall and back to the wharf (it’s an easy 2 hours to do approx 3.5km\, grade 3 walk with some steps). \nTiming/Travel for the day \n\nWe’ll meet at Sutherland station at 9.00am for the 9.05am train to the City\, or meet at Wharf 4 (B)\, Circular Quay at 10.00am for the 10.12am ferry to Taronga Park.\nDo the walk out to Bradley’s Head.\nCatch the 12.34pm ferry back to the Quay and lunch at City Extra (1.00pm) on the Quay (Options from $17 to $38 a head).\nAfter lunch\, catch train from the Quay or walk to Martin Place for train home.\n\nHope you can join us\, step outside your circle\, invite a friend or 2! \nContact Sandy Martin (details below form) for any further information. \nPlease RSVP by 13 March by filling out the form below as I need to book a table for us.
URL:https://menaibaptist.org.au/event/bradleys-head/
LOCATION:NSW
CATEGORIES:Older Adults
ATTACH;FMTTYPE=image/jpeg:https://menaibaptist.org.au/wp-content/uploads/2024/03/General-Announcements-1.jpg
ORGANIZER;CN="Sandy Martin":MAILTO:sandydegrassi@gmail.com
END:VEVENT
END:VCALENDAR