BEGIN:VCALENDAR
VERSION:2.0
PRODID:-//Menai Baptist Church - ECPv6.15.20//NONSGML v1.0//EN
CALSCALE:GREGORIAN
METHOD:PUBLISH
X-ORIGINAL-URL:https://menaibaptist.org.au
X-WR-CALDESC:Events for Menai Baptist Church
REFRESH-INTERVAL;VALUE=DURATION:PT1H
X-Robots-Tag:noindex
X-PUBLISHED-TTL:PT1H
BEGIN:VTIMEZONE
TZID:Australia/Sydney
BEGIN:STANDARD
TZOFFSETFROM:+1100
TZOFFSETTO:+1000
TZNAME:AEST
DTSTART:20230401T160000
END:STANDARD
BEGIN:DAYLIGHT
TZOFFSETFROM:+1000
TZOFFSETTO:+1100
TZNAME:AEDT
DTSTART:20230930T160000
END:DAYLIGHT
BEGIN:STANDARD
TZOFFSETFROM:+1100
TZOFFSETTO:+1000
TZNAME:AEST
DTSTART:20240406T160000
END:STANDARD
BEGIN:DAYLIGHT
TZOFFSETFROM:+1000
TZOFFSETTO:+1100
TZNAME:AEDT
DTSTART:20241005T160000
END:DAYLIGHT
BEGIN:STANDARD
TZOFFSETFROM:+1100
TZOFFSETTO:+1000
TZNAME:AEST
DTSTART:20250405T160000
END:STANDARD
BEGIN:DAYLIGHT
TZOFFSETFROM:+1000
TZOFFSETTO:+1100
TZNAME:AEDT
DTSTART:20251004T160000
END:DAYLIGHT
END:VTIMEZONE
BEGIN:VEVENT
DTSTART;VALUE=DATE:20240426
DTEND;VALUE=DATE:20240429
DTSTAMP:20260423T015843
CREATED:20240131T022246Z
LAST-MODIFIED:20240131T031524Z
UID:10000017-1714089600-1714348799@menaibaptist.org.au
SUMMARY:KYCK 2024
DESCRIPTION:We would love for you to join us for a weekend at KYCK! It is going to be a great weekend as we get to know each other more\, have a heap of fun\, dive into God’s word and meet Jesus in the Gospel of Mark. \nKYCK is a Christian conference for high schoolers to gather together to learn more about God\, his word and what difference it makes to life. It is run annually over 4 weekends by KCC (Katoomba Christian Convention). \nThis year the theme for the weekend is ‘In the Beginning’\, looking at Genesis 1 – 3. More information can be found at kyck.org.au \nWHO: Year 9 – 12 \nWHEN: Friday 26 April – Sunday 28 April. More information will come closer to the date about timings of the weekend. \nWHERE: Katoomba Christian Convention. MBC Youth will be staying in an Airb’n’b in Katoomba. \nCOST: $150 (including ticket\, accommodation\, food and transport for the weekend) \nCloser to the time there will be more information sent out about what to bring\, where to meet and what time we will be leaving and getting home. If you have any questions\, please do not hesitate to contact Jess at jess@menaibaptist.org.au or Ash at ash@menaibaptist.org.au (from mid-Feb).
URL:https://menaibaptist.org.au/event/kyck-2024/
LOCATION:Katoomba Christian Convention\, 119 Cliff Dr\, Katoomba\, NSW\, 2780\, Australia
CATEGORIES:Youth
ATTACH;FMTTYPE=image/png:https://menaibaptist.org.au/wp-content/uploads/2024/01/KYCK24_Promo_Slides_KYCK_3.png
END:VEVENT
END:VCALENDAR