BEGIN:VCALENDAR
VERSION:2.0
PRODID:-//Menai Baptist Church - ECPv6.15.20//NONSGML v1.0//EN
CALSCALE:GREGORIAN
METHOD:PUBLISH
X-ORIGINAL-URL:https://menaibaptist.org.au
X-WR-CALDESC:Events for Menai Baptist Church
REFRESH-INTERVAL;VALUE=DURATION:PT1H
X-Robots-Tag:noindex
X-PUBLISHED-TTL:PT1H
BEGIN:VTIMEZONE
TZID:Australia/Sydney
BEGIN:STANDARD
TZOFFSETFROM:+1100
TZOFFSETTO:+1000
TZNAME:AEST
DTSTART:20230401T160000
END:STANDARD
BEGIN:DAYLIGHT
TZOFFSETFROM:+1000
TZOFFSETTO:+1100
TZNAME:AEDT
DTSTART:20230930T160000
END:DAYLIGHT
BEGIN:STANDARD
TZOFFSETFROM:+1100
TZOFFSETTO:+1000
TZNAME:AEST
DTSTART:20240406T160000
END:STANDARD
BEGIN:DAYLIGHT
TZOFFSETFROM:+1000
TZOFFSETTO:+1100
TZNAME:AEDT
DTSTART:20241005T160000
END:DAYLIGHT
BEGIN:STANDARD
TZOFFSETFROM:+1100
TZOFFSETTO:+1000
TZNAME:AEST
DTSTART:20250405T160000
END:STANDARD
BEGIN:DAYLIGHT
TZOFFSETFROM:+1000
TZOFFSETTO:+1100
TZNAME:AEDT
DTSTART:20251004T160000
END:DAYLIGHT
END:VTIMEZONE
BEGIN:VEVENT
DTSTART;TZID=Australia/Sydney:20240728T170000
DTEND;TZID=Australia/Sydney:20240728T183000
DTSTAMP:20260422T212848
CREATED:20240721T093128Z
LAST-MODIFIED:20240721T094133Z
UID:10000048-1722186000-1722191400@menaibaptist.org.au
SUMMARY:Evening Service
DESCRIPTION:Our first evening service begins Sunday 27 July @ 5pm! \nEvening services will be during school terms only\, where we’ll meet at Menai Public School Hall – 4R Hall Dr\, Menai 2234.
URL:https://menaibaptist.org.au/event/new-evening-service/
LOCATION:Menai Public School\, 4R Hall Dr\, Menai\, NSW\, 2234\, Australia
CATEGORIES:Church
ATTACH;FMTTYPE=image/jpeg:https://menaibaptist.org.au/wp-content/uploads/2023/10/Menai-Baptist-Church-1.jpg
END:VEVENT
END:VCALENDAR