BEGIN:VCALENDAR
VERSION:2.0
PRODID:-//Menai Baptist Church - ECPv6.15.20//NONSGML v1.0//EN
CALSCALE:GREGORIAN
METHOD:PUBLISH
X-ORIGINAL-URL:https://menaibaptist.org.au
X-WR-CALDESC:Events for Menai Baptist Church
REFRESH-INTERVAL;VALUE=DURATION:PT1H
X-Robots-Tag:noindex
X-PUBLISHED-TTL:PT1H
BEGIN:VTIMEZONE
TZID:Australia/Sydney
BEGIN:STANDARD
TZOFFSETFROM:+1100
TZOFFSETTO:+1000
TZNAME:AEST
DTSTART:20230401T160000
END:STANDARD
BEGIN:DAYLIGHT
TZOFFSETFROM:+1000
TZOFFSETTO:+1100
TZNAME:AEDT
DTSTART:20230930T160000
END:DAYLIGHT
BEGIN:STANDARD
TZOFFSETFROM:+1100
TZOFFSETTO:+1000
TZNAME:AEST
DTSTART:20240406T160000
END:STANDARD
BEGIN:DAYLIGHT
TZOFFSETFROM:+1000
TZOFFSETTO:+1100
TZNAME:AEDT
DTSTART:20241005T160000
END:DAYLIGHT
BEGIN:STANDARD
TZOFFSETFROM:+1100
TZOFFSETTO:+1000
TZNAME:AEST
DTSTART:20250405T160000
END:STANDARD
BEGIN:DAYLIGHT
TZOFFSETFROM:+1000
TZOFFSETTO:+1100
TZNAME:AEDT
DTSTART:20251004T160000
END:DAYLIGHT
END:VTIMEZONE
BEGIN:VEVENT
DTSTART;VALUE=DATE:20240807
DTEND;VALUE=DATE:20240912
DTSTAMP:20260421T214008
CREATED:20240724T005643Z
LAST-MODIFIED:20240724T010043Z
UID:10000049-1722988800-1726099199@menaibaptist.org.au
SUMMARY:Alpha Online
DESCRIPTION:Every Wednesday night\, online via Zoom\, 8-9pm starting 7 Aug. \nAre you\, or do you know someone\, who would be interested in exploring questions about what life’s all about? \nAlpha is a safe space to explore life\, purpose and Christian faith\, ask questions\, and share your point of view. Alpha is free and everyone is welcome.  \nNext course starts Wednesday 7th August. Online meeting on Zoom 8-9pm.  \n\nWeek 1 – Wed 7 Aug – Is There More To Life Than This?\nWeek 2 – Wed 14 Aug – Who Is Jesus?\nWeek 3 – Wed 21 Aug – Why Did Jesus Die?\nWeek 4 – Wed 28 Aug – How Can I Have Faith?\nWeek 5 – Wed 4 Sep – Why & How Do I Pray?\nWeek 6 – Wed 11 Sep – Why & How Should I Read The Bible?\n\nGot questions about Alpha? Contact Alex Wiles – scroll to end of event listing for Alex’s contact details. \n 
URL:https://menaibaptist.org.au/event/alpha-online/
LOCATION:NSW
CATEGORIES:Church
ATTACH;FMTTYPE=image/jpeg:https://menaibaptist.org.au/wp-content/uploads/2024/02/AlphaInvite21_BusinessCard_90x55mm_2.1.jpg
ORGANIZER;CN="Alex Wiles":MAILTO:alex@menaibaptist.org.au
END:VEVENT
BEGIN:VEVENT
DTSTART;VALUE=DATE:20240904
DTEND;VALUE=DATE:20240905
DTSTAMP:20260421T214008
CREATED:20240829T235055Z
LAST-MODIFIED:20240829T235055Z
UID:10000053-1725408000-1725494399@menaibaptist.org.au
SUMMARY:Super Seniors Outing
DESCRIPTION:Come along to our next Super Seniors outing on Wednesday 4 September! We’ll be heading to Club Engadine for a morning tea and lunch. We always love to see new faces at our gatherings. \nPlease get in touch with the church office if you would like to attend or if you can volunteer on the day.
URL:https://menaibaptist.org.au/event/super-seniors-outing-0924/
LOCATION:Club Engadine\, 1029 Old Princes Hwy\, Engadine\, NSW\, 2233\, Australia
CATEGORIES:Super Seniors
ATTACH;FMTTYPE=image/jpeg:https://menaibaptist.org.au/wp-content/uploads/2024/08/SuperSeniors.jpg
END:VEVENT
END:VCALENDAR