BEGIN:VCALENDAR
VERSION:2.0
PRODID:-//Menai Baptist Church - ECPv6.15.20//NONSGML v1.0//EN
CALSCALE:GREGORIAN
METHOD:PUBLISH
X-ORIGINAL-URL:https://menaibaptist.org.au
X-WR-CALDESC:Events for Menai Baptist Church
REFRESH-INTERVAL;VALUE=DURATION:PT1H
X-Robots-Tag:noindex
X-PUBLISHED-TTL:PT1H
BEGIN:VTIMEZONE
TZID:Australia/Sydney
BEGIN:STANDARD
TZOFFSETFROM:+1100
TZOFFSETTO:+1000
TZNAME:AEST
DTSTART:20230401T160000
END:STANDARD
BEGIN:DAYLIGHT
TZOFFSETFROM:+1000
TZOFFSETTO:+1100
TZNAME:AEDT
DTSTART:20230930T160000
END:DAYLIGHT
BEGIN:STANDARD
TZOFFSETFROM:+1100
TZOFFSETTO:+1000
TZNAME:AEST
DTSTART:20240406T160000
END:STANDARD
BEGIN:DAYLIGHT
TZOFFSETFROM:+1000
TZOFFSETTO:+1100
TZNAME:AEDT
DTSTART:20241005T160000
END:DAYLIGHT
BEGIN:STANDARD
TZOFFSETFROM:+1100
TZOFFSETTO:+1000
TZNAME:AEST
DTSTART:20250405T160000
END:STANDARD
BEGIN:DAYLIGHT
TZOFFSETFROM:+1000
TZOFFSETTO:+1100
TZNAME:AEDT
DTSTART:20251004T160000
END:DAYLIGHT
END:VTIMEZONE
BEGIN:VEVENT
DTSTART;TZID=Australia/Sydney:20240916T190000
DTEND;TZID=Australia/Sydney:20240916T210000
DTSTAMP:20260421T201457
CREATED:20240829T232917Z
LAST-MODIFIED:20240830T022711Z
UID:10000052-1726513200-1726520400@menaibaptist.org.au
SUMMARY:MACCE Supporters Supper 2024
DESCRIPTION:We have the amazing opportunity to send our SRE teacher – Alex Wiles – to Menai High School and support the work of scripture in Lucas Heights Community School. But we need your help! Come along to the the MACCE Supporters Supper to donate to and support SRE and learn more. \nBOOKINGS/RSVP: Booking for this event is FREE and can be made at this link. \nDONATIONS: Please feel free to make a donation towards MACCE on the night or at any time by clicking here. \nSU AUSTRALIA MINISTRIES LIMITED ABN: 74 009 669 569\n168 Chalmers Street\, Surry Hills NSW 2010
URL:https://menaibaptist.org.au/event/macce-supporters-supper-2024/
LOCATION:Menai High School\, 40 Gerald Road\, Illawong\, NSW\, 2234\, Australia
CATEGORIES:Church
ATTACH;FMTTYPE=image/png:https://menaibaptist.org.au/wp-content/uploads/2024/08/Menai-Area-Committee-for-Christian-Education-1.png
END:VEVENT
BEGIN:VEVENT
DTSTART;TZID=Australia/Sydney:20240821T193000
DTEND;TZID=Australia/Sydney:20240821T210000
DTSTAMP:20260421T201457
CREATED:20240717T053702Z
LAST-MODIFIED:20240717T103125Z
UID:10000047-1724268600-1724274000@menaibaptist.org.au
SUMMARY:Winter Session – Prayer - Wednesday Night
DESCRIPTION:One of our priorities as a people who follow Jesus is to pray. So we are setting aside these two nights to pray together. Connect Groups (our small group gatherings) will take a break from regular studies to meet at the Centre\, or take time themselves to commit this week to prayer. \nPlease RSVP below.
URL:https://menaibaptist.org.au/event/winter-24-prayer-wed/
LOCATION:The Centre (MBC Office)\, Unit 2\, 778-786 Old Illawarra Road\, Menai\, NSW\, 2234\, Australia
CATEGORIES:Church
ATTACH;FMTTYPE=image/png:https://menaibaptist.org.au/wp-content/uploads/2024/07/WS-Prayer.png
END:VEVENT
BEGIN:VEVENT
DTSTART;TZID=Australia/Sydney:20240820T193000
DTEND;TZID=Australia/Sydney:20240820T210000
DTSTAMP:20260421T201457
CREATED:20240717T053516Z
LAST-MODIFIED:20240717T103104Z
UID:10000046-1724182200-1724187600@menaibaptist.org.au
SUMMARY:Winter Session – Prayer - Tuesday Night
DESCRIPTION:One of our priorities as a people who follow Jesus is to pray. So we are setting aside these two nights to pray together. Connect Groups (our small group gatherings) will take a break from regular studies to meet at the Centre\, or take time themselves to commit this week to prayer. \nCan’t make this prayer night? There is also a Wednesday prayer night you can attend. \nPlease RSVP below.
URL:https://menaibaptist.org.au/event/winter-24-prayer-tues/
LOCATION:The Centre (MBC Office)\, Unit 2\, 778-786 Old Illawarra Road\, Menai\, NSW\, 2234\, Australia
CATEGORIES:Church
ATTACH;FMTTYPE=image/png:https://menaibaptist.org.au/wp-content/uploads/2024/07/WS-Prayer.png
END:VEVENT
BEGIN:VEVENT
DTSTART;TZID=Australia/Sydney:20240813T193000
DTEND;TZID=Australia/Sydney:20240813T210000
DTSTAMP:20260421T201457
CREATED:20240717T052541Z
LAST-MODIFIED:20240723T120147Z
UID:10000045-1723577400-1723582800@menaibaptist.org.au
SUMMARY:Winter Session – Work & Rest
DESCRIPTION:Join us as Kara Martin\, Author of Workship & Workship 2 helps us consider how we best work and rest. What were the rhythms Jesus lived with and how can we apply them well to our lives that we might live a life that flourishes? \nThis is a free event.
URL:https://menaibaptist.org.au/event/winter-session-work-rest/
LOCATION:Inaburra School\, 77 Billa Road\, Bangor\, NSW\, 2234\, Australia
CATEGORIES:Church
ATTACH;FMTTYPE=image/png:https://menaibaptist.org.au/wp-content/uploads/2024/07/WS-Work-Rest-1.png
END:VEVENT
BEGIN:VEVENT
DTSTART;VALUE=DATE:20240807
DTEND;VALUE=DATE:20240912
DTSTAMP:20260421T201457
CREATED:20240724T005643Z
LAST-MODIFIED:20240724T010043Z
UID:10000049-1722988800-1726099199@menaibaptist.org.au
SUMMARY:Alpha Online
DESCRIPTION:Every Wednesday night\, online via Zoom\, 8-9pm starting 7 Aug. \nAre you\, or do you know someone\, who would be interested in exploring questions about what life’s all about? \nAlpha is a safe space to explore life\, purpose and Christian faith\, ask questions\, and share your point of view. Alpha is free and everyone is welcome.  \nNext course starts Wednesday 7th August. Online meeting on Zoom 8-9pm.  \n\nWeek 1 – Wed 7 Aug – Is There More To Life Than This?\nWeek 2 – Wed 14 Aug – Who Is Jesus?\nWeek 3 – Wed 21 Aug – Why Did Jesus Die?\nWeek 4 – Wed 28 Aug – How Can I Have Faith?\nWeek 5 – Wed 4 Sep – Why & How Do I Pray?\nWeek 6 – Wed 11 Sep – Why & How Should I Read The Bible?\n\nGot questions about Alpha? Contact Alex Wiles – scroll to end of event listing for Alex’s contact details. \n 
URL:https://menaibaptist.org.au/event/alpha-online/
LOCATION:NSW
CATEGORIES:Church
ATTACH;FMTTYPE=image/jpeg:https://menaibaptist.org.au/wp-content/uploads/2024/02/AlphaInvite21_BusinessCard_90x55mm_2.1.jpg
ORGANIZER;CN="Alex Wiles":MAILTO:alex@menaibaptist.org.au
END:VEVENT
BEGIN:VEVENT
DTSTART;TZID=Australia/Sydney:20240728T170000
DTEND;TZID=Australia/Sydney:20240728T183000
DTSTAMP:20260421T201457
CREATED:20240721T093128Z
LAST-MODIFIED:20240721T094133Z
UID:10000048-1722186000-1722191400@menaibaptist.org.au
SUMMARY:Evening Service
DESCRIPTION:Our first evening service begins Sunday 27 July @ 5pm! \nEvening services will be during school terms only\, where we’ll meet at Menai Public School Hall – 4R Hall Dr\, Menai 2234.
URL:https://menaibaptist.org.au/event/new-evening-service/
LOCATION:Menai Public School\, 4R Hall Dr\, Menai\, NSW\, 2234\, Australia
CATEGORIES:Church
ATTACH;FMTTYPE=image/jpeg:https://menaibaptist.org.au/wp-content/uploads/2023/10/Menai-Baptist-Church-1.jpg
END:VEVENT
BEGIN:VEVENT
DTSTART;TZID=Australia/Sydney:20240331T093000
DTEND;TZID=Australia/Sydney:20240331T110000
DTSTAMP:20260421T201457
CREATED:20240228T011508Z
LAST-MODIFIED:20240228T011508Z
UID:10000034-1711877400-1711882800@menaibaptist.org.au
SUMMARY:Easter Sunday Service
DESCRIPTION:Join us as we celebrate the resurrection of Christ this Easter. Stay around afterwards for a hot cross bun at morning tea!
URL:https://menaibaptist.org.au/event/easter-sunday/
LOCATION:Menai Baptist Church\, 77 Billa Road\, Bangor\, NSW\, 2234\, Australia
CATEGORIES:Church,Easter
ATTACH;FMTTYPE=image/png:https://menaibaptist.org.au/wp-content/uploads/2024/02/Easter-Sunday.png
END:VEVENT
BEGIN:VEVENT
DTSTART;TZID=Australia/Sydney:20240329T120000
DTEND;TZID=Australia/Sydney:20240329T140000
DTSTAMP:20260421T201457
CREATED:20240228T011158Z
LAST-MODIFIED:20240228T011158Z
UID:10000033-1711713600-1711720800@menaibaptist.org.au
SUMMARY:Good Friday Picnic
DESCRIPTION:Join us after our Good Friday service down at Burnum Burnum Sanctuary\, Woronora. BYO picnic items.
URL:https://menaibaptist.org.au/event/good-friday-picnic/
LOCATION:Burnum Burnum Sanctuary\, Woronora\, Washington Drive\, Woronora\, NSW\, 2226
CATEGORIES:Church,Easter
ATTACH;FMTTYPE=image/png:https://menaibaptist.org.au/wp-content/uploads/2024/02/Good-Friday-Picnic.png
END:VEVENT
BEGIN:VEVENT
DTSTART;TZID=Australia/Sydney:20240329T093000
DTEND;TZID=Australia/Sydney:20240329T103000
DTSTAMP:20260421T201457
CREATED:20240227T233331Z
LAST-MODIFIED:20240227T233331Z
UID:10000032-1711704600-1711708200@menaibaptist.org.au
SUMMARY:Good Friday Service
DESCRIPTION:Join us for this family-friendly\, reflective service as the Easter weekend begins.
URL:https://menaibaptist.org.au/event/good-friday-service/
LOCATION:Menai Baptist Church\, 77 Billa Road\, Bangor\, NSW\, 2234\, Australia
CATEGORIES:Church,Easter
ATTACH;FMTTYPE=image/png:https://menaibaptist.org.au/wp-content/uploads/2024/02/Good-Friday.png
END:VEVENT
BEGIN:VEVENT
DTSTART;TZID=Australia/Sydney:20240328T200000
DTEND;TZID=Australia/Sydney:20240328T210000
DTSTAMP:20260421T201457
CREATED:20240229T032030Z
LAST-MODIFIED:20240229T032030Z
UID:10000031-1711656000-1711659600@menaibaptist.org.au
SUMMARY:Service of Shadows
DESCRIPTION:Join us for this quiet\, reflective service with communion. Service is held in the PAC\, Inaburra School\, Bangor.
URL:https://menaibaptist.org.au/event/shadow-service/
LOCATION:Menai Baptist Church\, 77 Billa Road\, Bangor\, NSW\, 2234\, Australia
CATEGORIES:Church,Easter
ATTACH;FMTTYPE=image/png:https://menaibaptist.org.au/wp-content/uploads/2024/02/Easter-2024-Postcard-1920-x-1005-px.png
END:VEVENT
BEGIN:VEVENT
DTSTART;VALUE=DATE:20240221
DTEND;VALUE=DATE:20240328
DTSTAMP:20260421T201457
CREATED:20240209T012743Z
LAST-MODIFIED:20240209T023323Z
UID:10000029-1708473600-1711583999@menaibaptist.org.au
SUMMARY:Alpha
DESCRIPTION:Every Wednesday night\, 7-8:30pm starting 21 Feb. \nAre you\, or do you know someone\, who would be interested in exploring questions about what life’s all about? \nAlpha is a course that we’re running over 6 weeks that wades into what we think about faith\, God\, life and our place in it. We share a meal\, watch a high quality film series episode and discuss together in groups. Nothing is off limits\, everybody is welcome in this exploratory series on faith\, life and God. \n\nWeek 1 – Wed 21 Feb – Is There More To Life Than This?\nWeek 2 – Wed 28 Feb – Who Is Jesus?\nWeek 3 – Wed 06 Mar – Why Did Jesus Die?\nWeek 4 – Wed 13 Mar – How Can I Have Faith?\nWeek 5 – Wed 20 Mar – Why & How Do I Pray?\nWeek 6 – Wed 27 Mar – Why & How Should I Read The Bible?\n\nGot questions about Alpha? Contact Alex Wiles – scroll to end of event listing for Alex’s contact details. \n 
URL:https://menaibaptist.org.au/event/alpha/
LOCATION:The Centre (MBC Office)\, Unit 2\, 778-786 Old Illawarra Road\, Menai\, NSW\, 2234\, Australia
CATEGORIES:Church
ATTACH;FMTTYPE=image/jpeg:https://menaibaptist.org.au/wp-content/uploads/2024/02/AlphaInvite21_BusinessCard_90x55mm_2.1.jpg
ORGANIZER;CN="Alex Wiles":MAILTO:alex@menaibaptist.org.au
END:VEVENT
END:VCALENDAR