BEGIN:VCALENDAR
VERSION:2.0
PRODID:-//Menai Baptist Church - ECPv6.15.20//NONSGML v1.0//EN
CALSCALE:GREGORIAN
METHOD:PUBLISH
X-ORIGINAL-URL:https://menaibaptist.org.au
X-WR-CALDESC:Events for Menai Baptist Church
REFRESH-INTERVAL;VALUE=DURATION:PT1H
X-Robots-Tag:noindex
X-PUBLISHED-TTL:PT1H
BEGIN:VTIMEZONE
TZID:Australia/Sydney
BEGIN:STANDARD
TZOFFSETFROM:+1100
TZOFFSETTO:+1000
TZNAME:AEST
DTSTART:20240406T160000
END:STANDARD
BEGIN:DAYLIGHT
TZOFFSETFROM:+1000
TZOFFSETTO:+1100
TZNAME:AEDT
DTSTART:20241005T160000
END:DAYLIGHT
BEGIN:STANDARD
TZOFFSETFROM:+1100
TZOFFSETTO:+1000
TZNAME:AEST
DTSTART:20250405T160000
END:STANDARD
BEGIN:DAYLIGHT
TZOFFSETFROM:+1000
TZOFFSETTO:+1100
TZNAME:AEDT
DTSTART:20251004T160000
END:DAYLIGHT
BEGIN:STANDARD
TZOFFSETFROM:+1100
TZOFFSETTO:+1000
TZNAME:AEST
DTSTART:20260404T160000
END:STANDARD
BEGIN:DAYLIGHT
TZOFFSETFROM:+1000
TZOFFSETTO:+1100
TZNAME:AEDT
DTSTART:20261003T160000
END:DAYLIGHT
END:VTIMEZONE
BEGIN:VEVENT
DTSTART;TZID=Australia/Sydney:20250322T100000
DTEND;TZID=Australia/Sydney:20250322T140000
DTSTAMP:20260421T144119
CREATED:20250206T014338Z
LAST-MODIFIED:20250224T034155Z
UID:10000066-1742637600-1742652000@menaibaptist.org.au
SUMMARY:MBC 50+ Cooks River Walk & Picnic
DESCRIPTION:Join us on Saturday 22 March – 10am to 2pm – for a walk and picnic in Gough Whitlam Park. Invite your friends! \nThis walk is mostly flat\, 4km\, partial shade\, but the path is shared with bicycles so can be busy. \nOn the day: \n\nMeet at Gough Whitlam Park Carpark at 10am.\nWe will walk west along Cooks River and back to Gough Whitlam Park for lunch.\nPicnic lunch (BYO everything) at Gough Whitlam Park\, hopefully around 12- 12.30pm.\nAfter lunch\, pack up and return home or continue to explore Wolli Ck and the other walks in this interesting area. Wolli Creek station is about 2km (30 mins walk)\n\nNote: There is a small coffee & sandwich shop near the bridge on Illawarra Rd (we’ll will be near it just before the end of our walk back to the park for our picnic lunch). It’s about 15 mins walk from the park. This was the closest food/coffee we found to the park. \nPlease register below if you would like to attend! \n 
URL:https://menaibaptist.org.au/event/mbc-50-mar-25/
LOCATION:Gough Whitlam Park\, Earlwood\, Bayview Road\, Earlwood\, NSW\, Australia
CATEGORIES:Older Adults
ATTACH;FMTTYPE=image/jpeg:https://menaibaptist.org.au/wp-content/uploads/2025/02/4819857304_8f4d99c050_b.jpg
ORGANIZER;CN="Sandy Martin":MAILTO:sandydegrassi@gmail.com
END:VEVENT
END:VCALENDAR