BEGIN:VCALENDAR
VERSION:2.0
PRODID:-//Menai Baptist Church - ECPv6.15.20//NONSGML v1.0//EN
CALSCALE:GREGORIAN
METHOD:PUBLISH
X-WR-CALNAME:Menai Baptist Church
X-ORIGINAL-URL:https://menaibaptist.org.au
X-WR-CALDESC:Events for Menai Baptist Church
REFRESH-INTERVAL;VALUE=DURATION:PT1H
X-Robots-Tag:noindex
X-PUBLISHED-TTL:PT1H
BEGIN:VTIMEZONE
TZID:Australia/Sydney
BEGIN:STANDARD
TZOFFSETFROM:+1100
TZOFFSETTO:+1000
TZNAME:AEST
DTSTART:20240406T160000
END:STANDARD
BEGIN:DAYLIGHT
TZOFFSETFROM:+1000
TZOFFSETTO:+1100
TZNAME:AEDT
DTSTART:20241005T160000
END:DAYLIGHT
BEGIN:STANDARD
TZOFFSETFROM:+1100
TZOFFSETTO:+1000
TZNAME:AEST
DTSTART:20250405T160000
END:STANDARD
BEGIN:DAYLIGHT
TZOFFSETFROM:+1000
TZOFFSETTO:+1100
TZNAME:AEDT
DTSTART:20251004T160000
END:DAYLIGHT
BEGIN:STANDARD
TZOFFSETFROM:+1100
TZOFFSETTO:+1000
TZNAME:AEST
DTSTART:20260404T160000
END:STANDARD
BEGIN:DAYLIGHT
TZOFFSETFROM:+1000
TZOFFSETTO:+1100
TZNAME:AEDT
DTSTART:20261003T160000
END:DAYLIGHT
END:VTIMEZONE
BEGIN:VEVENT
DTSTART;TZID=Australia/Sydney:20250927T100000
DTEND;TZID=Australia/Sydney:20250927T170000
DTSTAMP:20260421T061257
CREATED:20250827T233656Z
LAST-MODIFIED:20250827T233711Z
UID:10000148-1758967200-1758992400@menaibaptist.org.au
SUMMARY:MBC 50+ Lunch and Walk at Manly
DESCRIPTION:Lunch and Walk at Manly\nMeeting at 10.10am at Sutherland Railway Station\, then ferry from Circular Quay to Manly at 11.20am. \nWe’ll have lunch at the Ivanhoe Hotel on the Corso at around 12pm. After lunch\, optional walk along the beach or\, if more energetic\, the Harbourside. \nThen we’ll meet back at the ferry wharf at 3pm to catch the ferry back to city. We should be back in Sutherland before 5pm. \nPlease confirm if joining us for lunch by 23 September as we need to make a booking reservation. \nIf it’s raining on the day\, we’ll meet up at Club on East for lunch instead. \nMore info & RSVP to Sandy (0416235167).
URL:https://menaibaptist.org.au/event/manly-walk-sep25/
LOCATION:NSW
CATEGORIES:Older Adults
ATTACH;FMTTYPE=image/jpeg:https://menaibaptist.org.au/wp-content/uploads/2025/02/DJI_0336.jpg
ORGANIZER;CN="Sandy Martin":MAILTO:sandydegrassi@gmail.com
END:VEVENT
END:VCALENDAR