BEGIN:VCALENDAR
VERSION:2.0
PRODID:-//Menai Baptist Church - ECPv6.15.20//NONSGML v1.0//EN
CALSCALE:GREGORIAN
METHOD:PUBLISH
X-ORIGINAL-URL:https://menaibaptist.org.au
X-WR-CALDESC:Events for Menai Baptist Church
REFRESH-INTERVAL;VALUE=DURATION:PT1H
X-Robots-Tag:noindex
X-PUBLISHED-TTL:PT1H
BEGIN:VTIMEZONE
TZID:Australia/Sydney
BEGIN:STANDARD
TZOFFSETFROM:+1100
TZOFFSETTO:+1000
TZNAME:AEST
DTSTART:20230401T160000
END:STANDARD
BEGIN:DAYLIGHT
TZOFFSETFROM:+1000
TZOFFSETTO:+1100
TZNAME:AEDT
DTSTART:20230930T160000
END:DAYLIGHT
BEGIN:STANDARD
TZOFFSETFROM:+1100
TZOFFSETTO:+1000
TZNAME:AEST
DTSTART:20240406T160000
END:STANDARD
BEGIN:DAYLIGHT
TZOFFSETFROM:+1000
TZOFFSETTO:+1100
TZNAME:AEDT
DTSTART:20241005T160000
END:DAYLIGHT
BEGIN:STANDARD
TZOFFSETFROM:+1100
TZOFFSETTO:+1000
TZNAME:AEST
DTSTART:20250405T160000
END:STANDARD
BEGIN:DAYLIGHT
TZOFFSETFROM:+1000
TZOFFSETTO:+1100
TZNAME:AEDT
DTSTART:20251004T160000
END:DAYLIGHT
END:VTIMEZONE
BEGIN:VEVENT
DTSTART;TZID=Australia/Sydney:20240615T063000
DTEND;TZID=Australia/Sydney:20240615T073000
DTSTAMP:20260422T212945
CREATED:20240201T001213Z
LAST-MODIFIED:20240527T015844Z
UID:10000021-1718433000-1718436600@menaibaptist.org.au
SUMMARY:Men's Breakfast
DESCRIPTION:Come along for some breaky\, fellowship and to hear a short talk. Cost is $5. \nFor catering purposes\, please RSVP below by Thursday 13 June. \nRSVP/Register
URL:https://menaibaptist.org.au/event/mens-breakfast-june24/
LOCATION:The Centre (MBC Office)\, Unit 2\, 778-786 Old Illawarra Road\, Menai\, NSW\, 2234\, Australia
CATEGORIES:Men
ATTACH;FMTTYPE=image/jpeg:https://menaibaptist.org.au/wp-content/uploads/2024/02/DSC01856BBQ.jpg
END:VEVENT
BEGIN:VEVENT
DTSTART;TZID=Australia/Sydney:20240629T133000
DTEND;TZID=Australia/Sydney:20240629T163000
DTSTAMP:20260422T212946
CREATED:20240626T234137Z
LAST-MODIFIED:20240626T234231Z
UID:10000044-1719667800-1719678600@menaibaptist.org.au
SUMMARY:Bushwalk - Ladies Social Event
DESCRIPTION:Join us for a bushwalk along Lady Carrington Drive (very easy walk).\n29 June @ 1.30pm\nMeet at Audley Dance Hall\nIf you’d like to skip the walk and join for coffee after\, please meet up with us at the Audley Dance Hall Kiosk at 3:00pm.\nIf possible please let the church office know you’re coming by Friday 2pm\, so we can expect you (or let Vic Hookham or Gill Cross know)! Happy to coordinate lifts too.
URL:https://menaibaptist.org.au/event/bushwalk-ladies-social-event/
LOCATION:NSW
CATEGORIES:Women
ATTACH;FMTTYPE=image/jpeg:https://menaibaptist.org.au/wp-content/uploads/2024/06/rainforest-of-lady-carrington-drive-1024x682-1.jpg
END:VEVENT
END:VCALENDAR